BEGIN:VCALENDAR
VERSION:2.0
PRODID:-//eventon.com NONSGML v1.0//EN
BEGIN:VEVENT
UID:69e655c0e451a
DTSTAMP:20260420T123512
DTSTART:20260606T040000Z
DTEND:20260608T035900Z
LOCATION:Troy Ohio 
SUMMARY:Troy Strawberry Festival
DESCRIPTION: downtown booth 155 off of  of the main Square
END:VEVENT
END:VCALENDAR