BEGIN:VCALENDAR
VERSION:2.0
PRODID:-//eventon.com NONSGML v1.0//EN
BEGIN:VEVENT
UID:69e655c0588ba
DTSTAMP:20260420T123512
DTSTART:20260530T040000Z
DTEND:20260601T035900Z
LOCATION:Sylvania OH 
SUMMARY:Main & Maple (in the Park) Sylvania OH
DESCRIPTION: Orlander Park
END:VEVENT
END:VCALENDAR