BEGIN:VCALENDAR
VERSION:2.0
PRODID:-//eventon.com NONSGML v1.0//EN
BEGIN:VEVENT
UID:69e6556315478
DTSTAMP:20260420T123339
DTSTART:20260523T050000Z
DTEND:20260524T050000Z
LOCATION:Alpharetta\,  GA Alpharetta\,  GA
SUMMARY:Alpharetta Art Fest
DESCRIPTION: booth 34
END:VEVENT
END:VCALENDAR