BEGIN:VCALENDAR
VERSION:2.0
PRODID:-//eventon.com NONSGML v1.0//EN
BEGIN:VEVENT
UID:69e655e1da8b5
DTSTAMP:20260420T123545
DTSTART:20260516T040000Z
DTEND:20260518T035900Z
LOCATION:Delaware\,  OH Delaware\,  OH
SUMMARY:Delaware OH Art Festival
DESCRIPTION: booth 62-63 on main st.
END:VEVENT
END:VCALENDAR