BEGIN:VCALENDAR
VERSION:2.0
PRODID:-//eventon.com NONSGML v1.0//EN
BEGIN:VEVENT
UID:69e656fd0690d
DTSTAMP:20260420T124029
DTSTART:20260509T050000Z
DTEND:20260510T050000Z
LOCATION:Dunwoody Village Parkway Atlanta\,  GA
SUMMARY:Dunwoody Art Fest
DESCRIPTION: Booth 11 top of road
END:VEVENT
END:VCALENDAR