BEGIN:VCALENDAR
VERSION:2.0
PRODID:-//eventon.com NONSGML v1.0//EN
BEGIN:VEVENT
UID:69e655293ced3
DTSTAMP:20260420T123241
DTSTART:20260502T050000Z
DTEND:20260503T050000Z
LOCATION:Towson 44 W Chesapeake Ave
SUMMARY:Townson Spring Festival
DESCRIPTION: Townson Spring Festival
END:VEVENT
END:VCALENDAR